Workbook

Sheet 2-СВОД
A3: Жиззах вилоятида иқтисодиёт тармоқлари, ижтимоий соҳа объектлари ва кўп квартирали турар жой фондини куз-қиш мавсумида барқарор ишлашга тайёрлаш ишларининг ЙИҒМА ПАРАМЕТРЛАРИ
A5: Т/р | B5: Шаҳар ва туман номи | C5: Уй-жой фондини таъмир-лаш, (бирлик) | D5: Иссиқлик таъминоти | G5: Ичимлик сув таъминоти | I5: Электр таъминоти | L5: Газ таъминоти | O5: Ижтимоий соҳа объект-ларини таъмир-лаш, (бирлик) | P5: Кўмир маҳсу-лотлари заҳирасини яратиш, (минг тонна)
D6: Қозон-хоналар, (бирлик) | E6: Қозон-лар, (бирлик) | F6: Иссиқ-лик тармоқ-лари, (км) | G6: Ичим-лик сув тармоқ-лари, (км) | H6: Насос ускуна-лари, (бирлик) | I6: Электр узатиш тармоқ-лари, (км) | J6: Транс-форматор пункт-лари, (бирлик) | K6: Йирик энерго-қурил-малар (ИЭС ва Узгидро-энерго) (бирлик) | L6: Газ қувур-ларини тиклаш, (км) | M6: Газ тақ-симлаш пункт-ларини таъмир-лаш, (бирлик) | N6: Етказиб берила-диган суюлти-рилган газ, (тонна)
A7: Вилоят бўйича | C7: =SUM(C9:C21) -> 86 | D7: =SUM(D9:D21) -> 3 | E7: =SUM(E9:E21) -> 8 | F7: =SUM(F9:F21) -> 5.45 | G7: 28.5 | H7: 63 | I7: =SUM(I9:I21) -> 4291.77 | J7: =SUM(J9:J21) -> 1053 | K7: х | L7: =SUM(L9:L21) -> 6.7 | M7: =SUM(M9:M21) -> 25 | N7: =SUM(N9:N21) -> 8055.1 | O7: =SUM(O9:O21) -> 68 | P7: =SUM(P9:P21) -> 29940
A8: шу жумладан:
A9: 1 | B9: Арнасой | C9: =+'[1]2-СВОД'!$C$8 -> 19 | G9: 1 | H9: 2 | I9: 385.52 | J9: 48 | K9: х | M9: 1 | N9: =+'11-газ суюл.'!E9 -> 661.45925 | O9: 4 | P9: 1497
A10: 2 | B10: Бахмал | G10: 0.7 | H10: 8 | I10: 491.2 | J10: 113 | K10: х | M10: 1 | N10: =+'11-газ суюл.'!E10 -> 1078.8246 | O10: 6 | P10: 6636
A11: 3 | B11: Ғаллаорол | C11: 5 | G11: 1.2 | H11: 9 | I11: 560 | J11: 114 | K11: х | M11: 3 | N11: =+'11-газ суюл.'!E11 -> 657.25363 | O11: 10 | P11: 4480
A12: 4 | B12: Дўстлик | D12: 1 | E12: 2 | F12: 2.6 | G12: 1.5 | H12: 8 | I12: 205.8 | J12: 58 | K12: х | M12: 1 | N12: =+'11-газ суюл.'!E12 -> 262.9351 | O12: 5 | P12: 1290
A13: 5 | B13: Ш.Рашидов | G13: 6 | H13: 10 | I13: 406.87 | J13: 129 | K13: х | L13: 2.15 | M13: 2 | N13: =+'11-газ суюл.'!E13 -> 613.93579 | O13: 10 | P13: 1800
A14: 6 | B14: Зомин | C14: 13 | G14: 2 | H14: 3 | I14: 496 | J14: 94 | K14: х | L14: 4.15 | M14: 3 | N14: =+'11-газ суюл.'!E14 -> 469.51494 | O14: 4 | P14: 4436
A15: 7 | B15: Зарбдор | C15: 8 | D15: 1 | E15: 3 | F15: 1.4 | G15: 2 | H15: 1 | I15: 246.88 | J15: 64 | K15: х | M15: 2 | N15: =+'11-газ суюл.'!E15 -> 717.22571 | O15: 7 | P15: 1928
A16: 8 | B16: Зафаробод | C16: 7 | G16: 0.7 | H16: 4 | I16: 196.8 | J16: 64 | K16: х | N16: =+'11-газ суюл.'!E16 -> 419.384 | O16: 4 | P16: 850
A17: 9 | B17: Мирзачўл | G17: 0.8 | H17: 5 | I17: 259.41 | J17: 76 | K17: х | M17: 1 | N17: =+'11-газ суюл.'!E17 -> 1268.9184 | O17: 2 | P17: 1165
A18: 10 | B18: Пахтакор | C18: 8 | G18: 3 | I18: 199.7 | J18: 53 | M18: 3 | N18: =+'11-газ суюл.'!E18 -> 441.50554 | O18: 6 | P18: 986
A19: 11 | B19: Фориш | G19: 0.6 | H19: 3 | I19: 445.2 | J19: 77 | M19: 1 | N19: =+'11-газ суюл.'!E19 -> 587.69275 | O19: 3 | P19: 3445
A20: 12 | B20: Янгиобод | I20: 186.92 | J20: 83 | M20: 4 | N20: =+'11-газ суюл.'!E20 -> 617.80496 | O20: 2 | P20: 750
A21: 13 | B21: Жиззах шаҳар | C21: 26 | D21: 1 | E21: 3 | F21: 1.45 | G21: 9 | H21: 10 | I21: 211.47 | J21: 80 | K21: х | L21: 0.4 | M21: 3 | N21: =+'11-газ суюл.'!E21 -> 258.64537 | O21: 5 | P21: 677
B22: Изоҳ: Агарда қайсидир вилоятда маълум бир кўрсаткич бўлмаса, шу устун олиб ташланмасин (умумлаштирилганда таъсир кўрсатади).

Sheet 3-уй-жой
A3: Жиззах вилоятида кўп квартирали турар жой фондини мукаммал ва жорий таъмирлаш ПАРАМЕТРЛАРИ
A5: Т/р | B5: Шаҳар ва туман номи | C5: Жами таъмир-лашга муҳтож кўп квартирали уйлар сони, (бирлик) | D5: Мукаммал таъмирлаш | K5: Жорий таъмирлаш
D6: Мукаммал таъмирга муҳтож уйлар сони, (бирлик) | E6: Иш турлари бўйича | K6: Жорий таъмирга муҳтож уйлар сони, (бирлик) | L6: Иш турлари бўйича
E7: Том қисмини таъмир-лаш, (м2) | F7: Кириш йулак-ларини таъмир-лаш, (йўлак сони) | G7: Кодли қулфли темир эшиклар ўрнатиш, (бирлик) | H7: Ички муҳан-дислик тармоқ-ларини таъмир-лаш, (бирлик) | I7: Ирри-гация тармоқ-ларини таъмир-лаш, (п/м) | J7: Уй олди йўлаклари қопла-масини таъмир-лаш, (м2) | L7: Том қисмини таъмир-лаш, (м2) | M7: Кириш йулак-ларини таъмир-лаш, (йўлак сони) | N7: Кодли қулфли темир эшиклар ўрнатиш, (бирлик) | O7: Ички муҳан-дислик тармоқ-ларини таъмир-лаш, (бирлик) | P7: Ирри-гация тармоқ-ларини таъмир-лаш, (п/м) | Q7: Уй олди йўлаклари қопла-масини таъмир-лаш, (м2)
B8: Вилоят бўйича | C8: =SUM(C10:C18) -> 78 | D8: =SUM(D10:D18) -> 78 | E8: =SUM(E10:E18) -> 34.1 | F8: =SUM(F10:F18) -> 193 | G8: =SUM(G10:G18) -> 181 | I8: =SUM(I10:I18) -> 300 | J8: =SUM(J10:J18) -> 62.6 | K8: =SUM(K10:K18) -> 8 | L8: =SUM(L10:L18) -> 0.3 | M8: =SUM(M10:M18) -> 24
B9: шу жумладан:
A10: 1 | B10: Арнасой | C10: 19 | D10: 19 | E10: 3.2 | F10: 40 | G10: 28 | J10: 2.3
A11: 2 | B11: Ғаллаорол | C11: 5 | D11: 5 | E11: 3.2 | F11: 11 | G11: 11 | J11: 4.4
A12: 3 | B12: Дўстлик | J12: 6.3
A13: 4 | B13: Зомин | C13: 13 | D13: 13 | E13: 5.6 | F13: 37 | G13: 37 | J13: 1.5
A14: 5 | B14: Зарбдор | C14: 8 | D14: 8 | E14: 2.9 | F14: 24 | G14: 24 | J14: 8.6
A15: 6 | B15: Зафаробод | C15: 7 | D15: 7 | E15: 2.1 | F15: 15 | G15: 15 | J15: 9.7
A16: 7 | B16: Мирзачўл | J16: 6.2
A17: 8 | B17: Пахтакор | J17: 9.1 | K17: 8 | L17: 0.3 | M17: 24
A18: 9 | B18: Жиззах шаҳар | C18: 26 | D18: 26 | E18: 17.1 | F18: 66 | G18: 66 | I18: 300 | J18: 14.5

Sheet 4-иссиклик
A3: Жиззах вилоятида иссиқлик таъминоти объектлари ва ускуналарини куз-қиш мавсумига тайёрлаш ПАРАМЕТРЛАРИ
A5: Т/р | B5: Шаҳар ва туман номи | C5: ЖАМИ | F5: Мукаммал таъмирлаш | L5: Жорий таъмирлаш
F6: Марказлашган | I6: Маҳаллий (локал) | L6: Марказлашган | O6: Маҳаллий (локал)
C7: Қозон-хоналар, (бирлик) | D7: Қозон-лар, (бирлик) | E7: Иссиқ-лик тармоқ-лари, (км) | F7: Қозон-хоналар, (бирлик) | G7: Қозон-лар, (бирлик) | H7: Иссиқ-лик тармоқ-лари, (км) | I7: Қозон-хоналар, (бирлик) | J7: Қозон-лар, (бирлик) | K7: Иссиқ-лик тармоқ-лари, (км) | L7: Қозон-хоналар, (бирлик) | M7: Қозон-лар, (бирлик) | N7: Иссиқ-лик тармоқ-лари, (км) | O7: Қозон-хоналар, (бирлик) | P7: Қозон-лар, (бирлик) | Q7: Иссиқ-лик тармоқ-лари, (км)
B8: Вилоят бўйича | C8: =+F8+L8+I8+O8 -> 3 | D8: =+G8+J8+M8 -> 8 | E8: =+H8+K8+N8+Q8 -> 5.45 | F8: =SUM(F10:F21) -> 3 | G8: =SUM(G10:G21) -> 7 | H8: =SUM(H10:H21) -> 4.95 | K8: =SUM(K10:K21) -> 0.45 | M8: =SUM(M10:M21) -> 1 | N8: =SUM(N10:N21) -> 0.05
B9: шу жумладан:
A10: 1 | B10: Арнасой
A11: 2 | B11: Бахмал
A12: 3 | B12: Ғаллаорол
A13: 4 | B13: Дўстлик | C13: =+F13+L13+I13+O13 -> 1 | D13: =+G13+J13+M13 -> 2 | E13: =+H13+K13+N13+Q13 -> 2.65 | F13: 1 | G13: 2 | H13: 2.6 | N13: 0.05
A14: 5 | B14: Ш.Рашидов
A15: 6 | B15: Зомин
A16: 7 | B16: Зарбдор | C16: =+F16+L16+I16+O16 -> 1 | D16: =+G16+J16+M16 -> 3 | E16: =+H16+K16+N16+Q16 -> 1.4 | F16: 1 | G16: 3 | H16: 1.4
A17: 8 | B17: Зафаробод
A18: 9 | B18: Мирзачўл
A19: 10 | B19: Пахтакор
A20: 11 | B20: Фориш
A21: 12 | B21: Жиззах шаҳар | C21: =+F21+L21+I21+O21 -> 1 | D21: =+G21+J21+M21 -> 3 | E21: =+H21+K21+N21+Q21 -> 1.4 | F21: 1 | G21: 2 | H21: 0.95 | K21: =1.4-0.95 -> 0.45 | M21: 1
B22: Изоҳ: Агарда қайсидир вилоятда маълум бир кўрсаткич бўлмаса, шу устун олиб ташланмасин (умумлаштирилганда таъсир кўрсатади).

Sheet 5-сув
A3: Жиззах вилоятида ичимлик сув таъминоти объектлари ва ускуналарини куз-қиш мавсумига тайёрлаш ПАРАМЕТРЛАРИ
A5: Т/р | B5: Шаҳар ва туман номи | C5: ЖАМИ | E5: Мукаммал таъмирлаш | G5: Жорий таъмирлаш
C6: Ичимлик сув тармоқлари, (км) | D6: Насос ускуналари, (бирлик) | E6: Ичимлик сув тармоқлари, (км) | F6: Насос ускуналари, (бирлик) | G6: Ичимлик сув тармоқлари, (км) | H6: Насос ускуналари, (бирлик)
B7: Вилоят бўйича | C7: =+E7+G7 -> 28.5 | D7: =+F7+H7 -> 63 | E7: =SUM(E9:E21) -> 10 | G7: =SUM(G9:G21) -> 18.5 | H7: =SUM(H9:H21) -> 63
B8: шу жумладан:
A9: 1 | B9: Арнасой | C9: =+E9+G9 -> 1 | D9: =+F9+H9 -> 2 | E9: 0.5 | G9: 0.5 | H9: 2
A10: 2 | B10: Бахмал | C10: =+E10+G10 -> 0.7 | D10: =+F10+H10 -> 8 | E10: 0.2 | G10: 0.5 | H10: 8
A11: 3 | B11: Ғаллаорол | C11: =+E11+G11 -> 1.2 | D11: =+F11+H11 -> 9 | E11: 0.2 | G11: 1 | H11: 9
A12: 4 | B12: Дўстлик | C12: =+E12+G12 -> 1.5 | D12: =+F12+H12 -> 8 | E12: 0.5 | G12: 1 | H12: 8
A13: 5 | B13: Ш.Рашидов | C13: =+E13+G13 -> 6 | D13: =+F13+H13 -> 10 | E13: 2 | G13: 4 | H13: 10
A14: 6 | B14: Зомин | C14: =+E14+G14 -> 2 | D14: =+F14+H14 -> 3 | E14: 0.5 | G14: 1.5 | H14: 3
A15: 7 | B15: Зарбдор | C15: =+E15+G15 -> 2 | D15: =+F15+H15 -> 1 | E15: 0.5 | G15: 1.5 | H15: 1
A16: 8 | B16: Зафаробод | C16: =+E16+G16 -> 0.7 | D16: =+F16+H16 -> 4 | E16: 0.2 | G16: 0.5 | H16: 4
A17: 9 | B17: Мирзачўл | C17: =+E17+G17 -> 0.8 | D17: =+F17+H17 -> 5 | E17: 0.3 | G17: 0.5 | H17: 5
A18: 10 | B18: Пахтакор | C18: =+E18+G18 -> 3 | D18: =+F18+H18 -> 0 | E18: 1 | G18: 2
A19: 11 | B19: Фориш | C19: =+E19+G19 -> 0.6 | D19: =+F19+H19 -> 3 | E19: 0.1 | G19: 0.5 | H19: 3
A20: 12 | B20: Янгиобод
A21: 13 | B21: Жиззах шаҳар | C21: =+E21+G21 -> 9 | D21: =+F21+H21 -> 10 | E21: 4 | G21: 5 | H21: 10

Sheet 6-электр
A3: Жиззах вилоятида электр тармоқлари ва қурилмаларини куз-қиш даврида барқарор ишлашга тайёрлаш ПАРАМЕТРЛАРИ
A5: Т/р | B5: Шаҳар ва туман номи | C5: ЖАМИ | E5: Мукаммал таъмирлаш | I5: Жорий таъмирлаш
E6: Юқори кучланишли | G6: Паст кучланишли | I6: Юқори кучланишли | K6: Паст кучланишли
C7: Электр узатиш тармоқ-лари, (км) | D7: Транс-форматор пункт-лари, (бирлик) | E7: Электр узатиш тармоқ-лари, (км) | F7: Транс-форматор пунктлари, (бирлик) | G7: Электр узатиш тармоқ-лари, (км) | H7: Транс-форматор пунктлари, (бирлик) | I7: Электр узатиш тармоқ-лари, (км) | J7: Транс-форматор пунктлари, (бирлик) | K7: Электр узатиш тармоқ-лари, (км) | L7: Транс-форматор пунктлари, (бирлик)
B8: Вилоят бўйича | C8: =+E8+G8+I8+K8 -> 4291.9 | D8: =+F8+H8+J8+L8 -> 1156 | E8: 262.2 | F8: 2 | G8: 1068 | H8: 394 | I8: 986.9 | J8: 103 | K8: 1974.8 | L8: 657
B9: шу жумладан: | C9: =+E9+G9+I9+K9 -> 0 | D9: =+F9+H9+J9+L9 -> 0
A10: 1 | B10: Арнасой | C10: =+E10+G10+I10+K10 -> 385.52 | D10: =+F10+H10+J10+L10 -> 54 | E10: 159.3 | G10: 31.22 | H10: 13 | I10: 134.3 | J10: 6 | K10: 60.7 | L10: 35
A11: 2 | B11: Бахмал | C11: =+E11+G11+I11+K11 -> 491.2 | D11: =+F11+H11+J11+L11 -> 123 | G11: 118.2 | H11: 46 | I11: 155.8 | J11: 10 | K11: 217.2 | L11: 67
A12: 3 | B12: Ғаллаорол | C12: =+E12+G12+I12+K12 -> 560 | D12: =+F12+H12+J12+L12 -> 122 | G12: 134.3 | H12: 46 | I12: 177.8 | J12: 8 | K12: 247.9 | L12: 68
A13: 4 | B13: Дўстлик | C13: =+E13+G13+I13+K13 -> 205.8 | D13: =+F13+H13+J13+L13 -> 65 | E13: 22.9 | G13: 44.3 | H13: 20 | I13: 54.2 | J13: 7 | K13: 84.4 | L13: 38
A14: 5 | B14: Ш.Рашидов | C14: =+E14+G14+I14+K14 -> 406.87 | D14: =+F14+H14+J14+L14 -> 136 | E14: 14.67 | G14: 123.6 | H14: 48 | I14: 35.4 | J14: 7 | K14: 233.2 | L14: 81
A15: 6 | B15: Зомин | C15: =+E15+G15+I15+K15 -> 504.67 | D15: =+F15+H15+J15+L15 -> 100 | E15: 8.67 | G15: 161.9 | H15: 43 | I15: 58.6 | J15: 6 | K15: 275.5 | L15: 51
A16: 7 | B16: Зарбдор | C16: =+E16+G16+I16+K16 -> 246.88 | D16: =+F16+H16+J16+L16 -> 76 | E16: 16.22 | G16: 47.16 | H16: 27 | I16: 72.6 | J16: 12 | K16: 110.9 | L16: 37
A17: 8 | B17: Зафаробод | C17: =+E17+G17+I17+K17 -> 196.8 | D17: =+F17+H17+J17+L17 -> 71 | G17: 46.1 | H17: 15 | I17: 65.3 | J17: 7 | K17: 85.4 | L17: 49
A18: 9 | B18: Мирзачўл | C18: =+E18+G18+I18+K18 -> 226.17 | D18: =+F18+H18+J18+L18 -> 88 | G18: 75.37 | H18: 22 | I18: 26.5 | J18: 12 | K18: 124.3 | L18: 54
A19: 10 | B19: Пахтакор | C19: =+E19+G19+I19+K19 -> 225.74 | D19: =+F19+H19+J19+L19 -> 63 | E19: 33.24 | G19: 41.3 | H19: 16 | I19: 71.4 | J19: 10 | K19: 79.8 | L19: 37
A20: 11 | B20: Фориш | C20: =+E20+G20+I20+K20 -> 452.4 | D20: =+F20+H20+J20+L20 -> 83 | E20: 7.2 | F20: 1 | G20: 136.5 | H20: 33 | I20: 60.8 | J20: 6 | K20: 247.9 | L20: 43
A21: 12 | B21: Янгиобод | C21: =+E21+G21+I21+K21 -> 186.92 | D21: =+F21+H21+J21+L21 -> 90 | G21: 43.22 | H21: 19 | I21: 57.4 | J21: 7 | K21: 86.3 | L21: 64
A22: 13 | B22: Жиззах шаҳар | C22: =+E22+G22+I22+K22 -> 202.8 | D22: =+F22+H22+J22+L22 -> 85 | F22: 1 | G22: 64.7 | H22: 46 | I22: 16.8 | J22: 5 | K22: 121.3 | L22: 33

Sheet 10-газ
A3: Жиззах вилоятида газ таъминоти объектлари ва қурилмаларини куз-қиш мавсумига тайёрлаш ПАРАМЕТРЛАРИ
A5: Т/р | B5: Шаҳар ва туман номи | C5: Жами газ қувур-ларини тиклаш-таъмирлаш ишлари, (км) | D5: Шундан | F5: Газ тақсимлаш пункт-ларини мукаммал таъмирлаш, (бирлик) | G5: Газ тақсимлаш пункт-ларини тафтиш қилиш, (бирлик) | H5: Газ қувур-ларини босим остида синаш ва тозалаш, (км) | I5: Ер ости газ қувур-ларининг ҳолатини текшириш, (км) | J5: Газ қувур-ларини бўяш, (км)
D6: Газ қувур-ларини мукаммал таъмирлаш, (км) | E6: Газ қувур-ларини реконст-рукция қилиш, (км)
B7: Вилоят бўйича | C7: =+D7+E7 -> 6.7 | D7: =SUM(D9:D21) -> 0.3 | E7: =SUM(E9:E21) -> 6.4 | F7: =SUM(F9:F21) -> 25 | G7: =SUM(G9:G21) -> 6149 | H7: =SUM(H9:H21) -> 114.3 | I7: =SUM(I9:I21) -> 94.9 | J7: =SUM(J9:J21) -> 37.5
B8: шу жумладан:
A9: 1 | B9: Арнасой | F9: 1 | G9: 83 | H9: 6 | I9: 4.5 | J9: 1.5
A10: 2 | B10: Бахмал | F10: 1 | G10: 198 | H10: 6.1 | I10: 6.2 | J10: 0.6
A11: 3 | B11: Ғаллаорол | F11: 3 | G11: 704 | H11: 12 | I11: 8.7 | J11: 3
A12: 4 | B12: Дўстлик | F12: 1 | G12: 202 | H12: 4.5 | I12: 6 | J12: 2
A13: 5 | B13: Ш.Рашидов | C13: 2.15 | E13: 2.15 | F13: 2 | G13: 1549 | H13: 26 | I13: 11.2 | J13: 5
A14: 6 | B14: Зомин | C14: 4.15 | D14: 0.3 | E14: 3.85 | F14: 3 | G14: 642 | H14: 9.5 | I14: 11 | J14: 3.9
A15: 7 | B15: Зарбдор | F15: 2 | G15: 261 | H15: 3.1 | I15: 4.2 | J15: 1.2
A16: 8 | B16: Зафаробод | G16: 142 | H16: 20 | I16: 6.2 | J16: 2.2
A17: 9 | B17: Мирзачўл | F17: 1 | G17: 116 | H17: 2.6 | I17: 2.3 | J17: 0.8
A18: 10 | B18: Пахтакор | F18: 3 | G18: 232 | H18: 6.4 | I18: 3.6 | J18: 4
A19: 11 | B19: Фориш | F19: 1 | G19: 272 | H19: 3.4 | I19: 6 | J19: 1.6
A20: 12 | B20: Янгиобод | F20: 4 | G20: 168 | H20: 5 | I20: 10 | J20: 8.5
A21: 13 | B21: Жиззах шаҳар | C21: 0.4 | E21: 0.4 | F21: 3 | G21: 1580 | H21: 9.7 | I21: 15 | J21: 3.2
B23: Изоҳ: Агарда қайсидир вилоятда маълум бир кўрсаткич бўлмаса, шу устун олиб ташланмасин (умумлаштирилганда таъсир кўрсатади).

Sheet 11-газ суюл.
A3: Жиззах вилоятида куз-қиш мавсумида аҳолига суюлтирилган газ етказиб бериш ПАРАМЕТРЛАРИ
A5: Т/р | B5: Шаҳар ва туман номи | C5: МФЙ сони, (минг нафар) | D5: Истеъ-молчилар сони, (минг нафар) | E5: Етказиб бериладиган суюлтирилган газ ҳажми, (тонна) | F5: шундан:
F6: 2021 йилда | I6: 2022 йилда
F7: октябрь | G7: ноябрь | H7: декабрь | I7: январь | J7: февраль | K7: март
B8: Вилоят бўйича | C8: =SUM(C9:C21) -> 200 | D8: =SUM(D9:D21) -> 95766 | E8: =SUM(E9:E21) -> 8055.1 | F8: =SUM(F9:F21) -> 1387.5 | G8: =SUM(G9:G21) -> 1324.5 | H8: =SUM(H9:H21) -> 1369.6 | I8: =SUM(I9:I21) -> 1324.5 | J8: =SUM(J9:J21) -> 1324.5 | K8: =SUM(K9:K21) -> 1324.5
A9: 1 | B9: Арнасой тумани | C9: 13 | D9: 7864 | E9: 661.45925 | F9: 113.9371 | G9: 108.76374 | H9: 112.46721 | I9: 108.76374 | J9: 108.76374 | K9: 108.76374
A10: 2 | B10: Бахмал тумани | C10: 29 | D10: 12826 | E10: 1078.8246 | F10: 185.82874 | G10: 177.39111 | H10: 183.43138 | I10: 177.39111 | J10: 177.39111 | K10: 177.39111
A11: 3 | B11: Ғаллаорол тумани | C11: 19 | D11: 7814 | E11: 657.25363 | F11: 113.21267 | G11: 108.07221 | H11: 111.75213 | I11: 108.07221 | J11: 108.07221 | K11: 108.07221
A12: 4 | B12: Даштобод тумани | C12: 10 | D12: 3126 | E12: 262.9351 | F12: 45.290865 | G12: 43.234415 | H12: 44.706572 | I12: 43.234415 | J12: 43.234415 | K12: 43.234415
A13: 5 | B13: Дўстлик тумани | C13: 7 | D13: 7299 | E13: 613.93579 | F13: 105.75113 | G13: 100.94945 | H13: 104.38684 | I13: 100.94945 | J13: 100.94945 | K13: 100.94945
A14: 6 | B14: Ш.Рашидов тумани | C14: 28 | D14: 5582 | E14: 469.51494 | F14: 80.874475 | G14: 77.202337 | H14: 79.831122 | I14: 77.202337 | J14: 77.202337 | K14: 77.202337
A15: 7 | B15: Зарбдор тумани | C15: 18 | D15: 8527 | E15: 717.22571 | F15: 123.54293 | G15: 117.93342 | H15: 121.94912 | I15: 117.93342 | J15: 117.93342 | K15: 117.93342
A16: 8 | B16: Зафаробод тумани | C16: 9 | D16: 4986 | E16: 419.384 | F16: 72.239365 | G16: 68.959307 | H16: 71.307412 | I16: 68.959307 | J16: 68.959307 | K16: 68.959307
A17: 9 | B17: Зомин тумани | C17: 20 | D17: 15086 | E17: 1268.9184 | F17: 218.57261 | G17: 208.64824 | H17: 215.75283 | I17: 208.64824 | J17: 208.64824 | K17: 208.64824
A18: 10 | B18: Мирзачул тумани | C18: 10 | D18: 5249 | E18: 441.50554 | F18: 76.049825 | G18: 72.596751 | H18: 75.068713 | I18: 72.596751 | J18: 72.596751 | K18: 72.596751
A19: 11 | B19: Пахтакор тумани | C19: 9 | D19: 6987 | E19: 587.69275 | F19: 101.23073 | G19: 96.634312 | H19: 99.924767 | I19: 96.634312 | J19: 96.634312 | K19: 96.634312
A20: 12 | B20: Фориш тумани | C20: 20 | D20: 7345 | E20: 617.80496 | F20: 106.4176 | G20: 101.58566 | H20: 105.04471 | I20: 101.58566 | J20: 101.58566 | K20: 101.58566
A21: 13 | B21: Янгиобод тумани | C21: 8 | D21: 3075 | E21: 258.64537 | F21: 44.551955 | G21: 42.529055 | H21: 43.977194 | I21: 42.529055 | J21: 42.529055 | K21: 42.529055
B22: Изоҳ: Агарда қайсидир вилоятда маълум бир кўрсаткич бўлмаса, шу устун олиб ташланмасин (умумлаштирилганда таъсир кўрсатади).

Sheet 12-ижт.
A3: Жиззах вилоятида ижтимоий соҳа объектларини мукаммал ва жорий таъмирлаш ПАРАМЕТРЛАРИ
A5: Т/р | B5: Шаҳар ва туман номи | C5: Жами ижтимоий соҳа объект-лари, (бирлик) | D5: Мукаммал таъмирлаш, жумладан: | L5: Жорий таъмирлаш, жумладан:
D6: Мактаб-лар, (бирлик) | E6: Болалар уйлари ва мактаб-интер-натлар, (бирлик) | F6: Боғча-лар, (бирлик) | G6: Шифо-хоналар, поликли-никалар (бирлик) | H6: Саҳоват, Мурувват уйлари ва пансио-натлар (бирлик) | I6: Олий таълим муасса-салари, (бирлик) | J6: Мада-ният объект-лари, (бирлик) | K6: Спорт объект-лари, (бирлик) | L6: Мактаб-лар, (бирлик) | M6: Болалар уйлари ва мактаб-интер-натлар, (бирлик) | N6: Боғча-лар, (бирлик) | O6: Шифо-хоналар, поликли-никалар (бирлик) | P6: Саҳоват, Мурувват уйлари ва пансио-натлар (бирлик) | Q6: Олий таълим муасса-салари, (бирлик) | R6: Спорт объект-лари, (бирлик)
B7: Вилоят бўйича | C7: =SUM(C8:C20) -> 68 | L7: =SUM(L8:L20) -> 24 | N7: =SUM(N8:N20) -> 34 | O7: =SUM(O8:O20) -> 10
A8: 1 | B8: Арнасой | C8: =+L8+N8+O8 -> 4 | N8: 3 | O8: 1
A9: 2 | B9: Бахмал | C9: =+L9+N9+O9 -> 6 | L9: 2 | N9: 2 | O9: 2
A10: 3 | B10: Ғаллаорол | C10: =+L10+N10+O10 -> 10 | L10: 2 | N10: 6 | O10: 2
A11: 4 | B11: Дўстлик | C11: =+L11+N11+O11 -> 5 | L11: 1 | N11: 4
A12: 5 | B12: Ш.Рашидов | C12: =+L12+N12+O12 -> 10 | L12: 3 | N12: 7
A13: 6 | B13: Зомин | C13: =+L13+N13+O13 -> 4 | L13: 2 | O13: 2
A14: 7 | B14: Зарбдор | C14: =+L14+N14+O14 -> 7 | L14: 3 | N14: 4
A15: 8 | B15: Зафаробод | C15: =+L15+N15+O15 -> 4 | L15: 2 | N15: 1 | O15: 1
A16: 9 | B16: Мирзачўл | C16: =+L16+N16+O16 -> 2 | L16: 1 | N16: 1
A17: 10 | B17: Пахтакор | C17: =+L17+N17+O17 -> 6 | L17: 2 | N17: 2 | O17: 2
A18: 11 | B18: Фориш | C18: =+L18+N18+O18 -> 3 | L18: 3
A19: 12 | B19: Янгиобод | C19: =+L19+N19+O19 -> 2 | L19: 1 | N19: 1
A20: 13 | B20: Жиззах шаҳар | C20: =+L20+N20+O20 -> 5 | L20: 2 | N20: 3
B21: Изоҳ: Агарда қайсидир вилоятда маълум бир кўрсаткич бўлмаса, шу устун олиб ташланмасин (умумлаштирилганда таъсир кўрсатади).

Sheet 13-кумир
A3: Жиззах вилоятида куз-қиш мавсуми учун кўмир маҳсулотлари заҳирасини яратиш ПАРАМЕТРЛАРИ
A5: Т/р | B5: Шаҳар ва туман номи | C5: Кўмир маҳсулотлари учун талаб, (минг тонна) | F5: Шундан, йўналишлар кесимида | P5: Кўмир маҳсулотини етказиб берувчи корхоналар
F6: Ижтимоий соҳа объектлари | I6: Ғишт корхоналари ва иссиқхоналар | L6: Аҳоли
C7: Жами | D7: шундан | F7: Жами | G7: шундан | I7: Жами | J7: шундан | L7: МФЙ сони | M7: Жами миқдори | N7: шундан
D8: кўмир | E8: кўмир брикет | G8: кўмир | H8: кўмир брикет | J8: кўмир | K8: кўмир брикет | N8: кўмир | O8: кўмир брикет
B9: Вилоят бўйича | C9: =+D9 -> 29940 | D9: =+G9+M9 -> 29940 | G9: =SUM(G11:G22) -> 16040 | L9: =SUM(L11:L23) -> 275 | M9: =SUM(M11:M23) -> 13900 | N9: =SUM(N11:N23) -> 13900
A10: шу жумладан
A11: 1 | B11: Арнасой | C11: =+D11 -> 1497 | D11: =+G11+M11 -> 1497 | G11: 797 | L11: 9 | M11: =+N11 -> 700 | N11: 700 | P11: Дўстлик кўмир омбори
A12: 2 | B12: Бахмал | C12: =+D12 -> 6636 | D12: =+G12+M12 -> 6636 | G12: 3576 | L12: 29 | M12: =+N12 -> 3060 | N12: 3060 | P12: Ғалла-орол кўмир омбори
A13: 3 | B13: Ғаллаорол | C13: =+D13 -> 4480 | D13: =+G13+M13 -> 4480 | G13: 2280 | L13: 29 | M13: =+N13 -> 2200 | N13: 2200 | P13: Ғалла-орол кўмир омбори
A14: 4 | B14: Дўстлик | C14: =+D14 -> 1290 | D14: =+G14+M14 -> 1290 | G14: 590 | L14: 8 | M14: =+N14 -> 700 | N14: 700 | P14: Дўстлик кўмир омбори
A15: 5 | B15: Ш.Рашидов | C15: =+D15 -> 1800 | D15: =+G15+M15 -> 1800 | G15: 800 | L15: 48 | M15: =+N15 -> 1000 | N15: 1000 | P15: Жиззах кўмир омбори
A16: 6 | B16: Зомин | C16: =+D16 -> 4436 | D16: =+G16+M16 -> 4436 | G16: 2436 | L16: 37 | M16: =+N16 -> 2000 | N16: 2000 | P16: Даштобод кўмир омбори
A17: 7 | B17: Зарбдор | C17: =+D17 -> 1928 | D17: =+G17+M17 -> 1928 | G17: 865 | L17: 22 | M17: =+N17 -> 1063 | N17: 1063 | P17: Зарбдор кўмир омбори
A18: 8 | B18: Зафаробод | C18: =+D18 -> 850 | D18: =+G18+M18 -> 850 | G18: 450 | L18: 10 | M18: =+N18 -> 400 | N18: 400 | P18: Жиззах кўмир омбори
A19: 9 | B19: Мирзачўл | C19: =+D19 -> 1165 | D19: =+G19+M19 -> 1165 | G19: 665 | L19: 6 | M19: =+N19 -> 500 | N19: 500 | P19: Дўстлик кўмир омбори
A20: 10 | B20: Пахтакор | C20: =+D20 -> 986 | D20: =+G20+M20 -> 986 | G20: 486 | L20: 15 | M20: =+N20 -> 500 | N20: 500 | P20: Жиззах кўмир омбори
A21: 11 | B21: Фориш | C21: =+D21 -> 3445 | D21: =+G21+M21 -> 3445 | G21: 2745 | L21: 25 | M21: =+N21 -> 700 | N21: 700 | P21: Фориш кўмир омбори
A22: 12 | B22: Янгиобод | C22: =+D22 -> 750 | D22: =+G22+M22 -> 750 | G22: 350 | L22: 5 | M22: =+N22 -> 400 | N22: 400 | P22: Даштобод кўмир омбори
A23: 13 | B23: Жиззах шаҳар | C23: =+D23 -> 677 | D23: =+G23+M23 -> 677 | L23: 32 | M23: =+N23 -> 677 | N23: 677 | P23: Жиззах кўмир омбори
B25: Изоҳ: Агарда қайсидир вилоятда маълум бир кўрсаткич бўлмаса, шу устун олиб ташланмасин (умумлаштирилганда таъсир кўрсатади).

Sheet 14-кумир ижт.
A3: Жиззах вилоятида ижтимоий соҳа объектларига (вазирликлар кесимида) куз-қиш мавсуми учун кўмир маҳсулотлари заҳирасини яратиш ПАРАМЕТРЛАРИ
A5: Т/р | B5: Шаҳар ва туман номи | C5: Жами ижтимоий соҳа объектлари учун талаб, (минг тонна) | F5: Шундан, вазирликлар кесимида
F6: Халқ таълими вазирлиги | I6: Мактабгача таълим вазирлиги | L6: Соғлиқни сақлаш вазирлиги | O6: Олий ва ўрта махсус таълим вазирлиги | R6: Маданият вазирлиги | U6: Туризм ва спорт вазирлиги
C7: Жами | D7: шундан | F7: Жами | G7: шундан | I7: Жами | J7: шундан | L7: Жами | M7: шундан | O7: Жами | P7: шундан | R7: Жами | S7: шундан | U7: Жами | V7: шундан
D8: кўмир | E8: кўмир брикет | G8: кўмир | H8: кўмир брикет | J8: кўмир | K8: кўмир брикет | M8: кўмир | N8: кўмир брикет | P8: кўмир | Q8: кўмир брикет | S8: кўмир | T8: кўмир брикет | V8: кўмир | W8: кўмир брикет
B9: Вилоят бўйича | C9: =+D9 -> 16040 | D9: =+G9+J9+M9+P9+S9 -> 16040 | F9: =SUM(F10:F21) -> 12870 | G9: =SUM(G10:G21) -> 12870 | I9: =SUM(I10:I21) -> 1340 | J9: =SUM(J10:J21) -> 1340 | L9: =SUM(L10:L21) -> 1330 | M9: =SUM(M10:M21) -> 1330 | O9: =SUM(O10:O21) -> 490 | P9: =SUM(P10:P21) -> 490 | R9: =SUM(R10:R21) -> 10 | S9: =SUM(S10:S21) -> 10
A10: 1 | B10: Арнасой | C10: =+D10 -> 797 | D10: =+G10+J10+M10+P10+S10 -> 797 | F10: 540 | G10: 540 | I10: =+J10 -> 180 | J10: 180 | L10: =+M10 -> 67 | M10: 67 | O10: =+P10 -> 10 | P10: 10
A11: 2 | B11: Бахмал | C11: =+D11 -> 3576 | D11: =+G11+J11+M11+P11+S11 -> 3576 | F11: 2975 | G11: 2975 | I11: =+J11 -> 120 | J11: 120 | L11: =+M11 -> 255 | M11: 255 | O11: =+P11 -> 226 | P11: 226
A12: 3 | B12: Ғаллаорол | C12: =+D12 -> 2290 | D12: =+G12+J12+M12+P12+S12 -> 2290 | F12: 2100 | G12: 2100 | I12: =+J12 -> 60 | J12: 60 | L12: =+M12 -> 120 | M12: 120 | R12: 10 | S12: 10
A13: 4 | B13: Дўстлик | C13: =+D13 -> 590 | D13: =+G13+J13+M13+P13+S13 -> 590 | F13: 410 | G13: 410 | I13: =+J13 -> 160 | J13: 160 | L13: =+M13 -> 20 | M13: 20
A14: 5 | B14: Ш.Рашидов | C14: =+D14 -> 800 | D14: =+G14+J14+M14+P14+S14 -> 800 | F14: 720 | G14: 720 | I14: =+J14 -> 50 | J14: 50 | L14: =+M14 -> 30 | M14: 30
A15: 6 | B15: Зомин | C15: =+D15 -> 2426 | D15: =+G15+J15+M15+P15+S15 -> 2426 | F15: 1635 | G15: 1635 | I15: =+J15 -> 160 | J15: 160 | L15: =+M15 -> 487 | M15: 487 | O15: =+P15 -> 144 | P15: 144
A16: 7 | B16: Зарбдор | C16: =+D16 -> 865 | D16: =+G16+J16+M16+P16+S16 -> 865 | F16: 685 | G16: 685 | I16: =+J16 -> 55 | J16: 55 | L16: =+M16 -> 15 | M16: 15 | O16: =+P16 -> 110 | P16: 110
A17: 8 | B17: Зафаробод | C17: =+D17 -> 450 | D17: =+G17+J17+M17+P17+S17 -> 450 | F17: 285 | G17: 285 | I17: =+J17 -> 140 | J17: 140 | L17: =+M17 -> 25 | M17: 25
A18: 9 | B18: Мирзачўл | C18: =+D18 -> 665 | D18: =+G18+J18+M18+P18+S18 -> 665 | F18: 520 | G18: 520 | I18: =+J18 -> 100 | J18: 100 | L18: =+M18 -> 45 | M18: 45
A19: 10 | B19: Пахтакор | C19: =+D19 -> 486 | D19: =+G19+J19+M19+P19+S19 -> 486 | F19: 410 | G19: 410 | I19: =+J19 -> 60 | J19: 60 | L19: =+M19 -> 16 | M19: 16
A20: 11 | B20: Фориш | C20: =+D20 -> 2745 | D20: =+G20+J20+M20+P20+S20 -> 2745 | F20: 2270 | G20: 2270 | I20: =+J20 -> 255 | J20: 255 | L20: =+M20 -> 220 | M20: 220
A21: 12 | B21: Янгиобод | C21: =+D21 -> 350 | D21: =+G21+J21+M21+P21+S21 -> 350 | F21: 320 | G21: 320 | L21: =+M21 -> 30 | M21: 30
A22: 13 | B22: Жиззах шаҳар
B23: Изоҳ: Агарда қайсидир вилоятда маълум бир кўрсаткич бўлмаса, шу устун олиб ташланмасин (умумлаштирилганда таъсир кўрсатади).
